BEGIN:VCALENDAR
VERSION:2.0
METHOD:PUBLISH
PRODID:-//ddaysoftware.com//NONSGML DDay.iCal 1.0//EN
BEGIN:VTIMEZONE
TZID:Eastern Standard Time
BEGIN:STANDARD
DTSTART;VALUE=DATE:18000101
RRULE:FREQ=YEARLY;BYDAY=SU;BYHOUR=2;BYMINUTE=0;BYMONTH=10;BYMONTHDAY=25,26,
 27,28,29,30,31
TZOFFSETFROM:-0400
TZOFFSETTO:-0500
END:STANDARD
BEGIN:DAYLIGHT
DTSTART;VALUE=DATE:18000101
RRULE:FREQ=YEARLY;BYDAY=SU;BYHOUR=2;BYMINUTE=0;BYMONTH=4;BYMONTHDAY=1,2,3,4
 ,5,6,7
TZOFFSETFROM:-0500
TZOFFSETTO:-0400
END:DAYLIGHT
BEGIN:STANDARD
DTSTART;VALUE=DATE:20070101
RRULE:FREQ=YEARLY;BYDAY=SU;BYHOUR=2;BYMINUTE=0;BYMONTH=11;BYMONTHDAY=1,2,3,
 4,5,6,7
TZOFFSETFROM:-0400
TZOFFSETTO:-0500
END:STANDARD
BEGIN:DAYLIGHT
DTSTART;VALUE=DATE:20070101
RRULE:FREQ=YEARLY;BYDAY=SU;BYHOUR=2;BYMINUTE=0;BYMONTH=3;BYMONTHDAY=8,9,10,
 11,12,13,14
TZOFFSETFROM:-0500
TZOFFSETTO:-0400
END:DAYLIGHT
END:VTIMEZONE
BEGIN:VEVENT
DESCRIPTION:Massey is excited to be preaching and ministering at Christian 
 Life Mennonite Church in Beach City\, OH. Massey will be sharing his testi
 mony of how God put a passion in him for America and it's founding\, and h
 e will also be preaching his message\, "Miraculous History of America: God
 's Hand on Us." This service is open to the public.
DTEND;TZID=Eastern Standard Time:20250824T120000
DTSTAMP:20260425T054019
DTSTART;TZID=Eastern Standard Time:20250824T103000
LOCATION:11663 Kaylor Rd NW  Beach City\, OH 
SEQUENCE:0
SUMMARY:Christian Life Mennonite Church - Beach  City \, OH
UID:7b94f0d7-65d8-4fc9-85a3-193fb9fce4c0
URL:https://theselfevidenttruth.com/christian-life-mennonite-church-beach--
 city--oh
END:VEVENT
END:VCALENDAR
