BEGIN:VCALENDAR
VERSION:2.0
METHOD:PUBLISH
PRODID:-//ddaysoftware.com//NONSGML DDay.iCal 1.0//EN
BEGIN:VTIMEZONE
TZID:Eastern Standard Time
BEGIN:STANDARD
DTSTART;VALUE=DATE:18000101
RRULE:FREQ=YEARLY;BYDAY=SU;BYHOUR=2;BYMINUTE=0;BYMONTH=10;BYMONTHDAY=25,26,
 27,28,29,30,31
TZOFFSETFROM:-0400
TZOFFSETTO:-0500
END:STANDARD
BEGIN:DAYLIGHT
DTSTART;VALUE=DATE:18000101
RRULE:FREQ=YEARLY;BYDAY=SU;BYHOUR=2;BYMINUTE=0;BYMONTH=4;BYMONTHDAY=1,2,3,4
 ,5,6,7
TZOFFSETFROM:-0500
TZOFFSETTO:-0400
END:DAYLIGHT
BEGIN:STANDARD
DTSTART;VALUE=DATE:20070101
RRULE:FREQ=YEARLY;BYDAY=SU;BYHOUR=2;BYMINUTE=0;BYMONTH=11;BYMONTHDAY=1,2,3,
 4,5,6,7
TZOFFSETFROM:-0400
TZOFFSETTO:-0500
END:STANDARD
BEGIN:DAYLIGHT
DTSTART;VALUE=DATE:20070101
RRULE:FREQ=YEARLY;BYDAY=SU;BYHOUR=2;BYMINUTE=0;BYMONTH=3;BYMONTHDAY=8,9,10,
 11,12,13,14
TZOFFSETFROM:-0500
TZOFFSETTO:-0400
END:DAYLIGHT
END:VTIMEZONE
BEGIN:VEVENT
DESCRIPTION:Massey and Cari Campos\, along with Mike Sonneveldt\, are honor
 ed to be speaking and ministering at the Truth to Power Revival evening in
  Burbank\, OH. This powerful event will deliver inspiring messages on the 
 biblical foundation of America—highlighting what God did during those earl
 y days in our nation and hope that He can certainly do it again. You’ll ga
 in a deeper understanding of how prayer was the backbone of the fight for 
 liberty and how it continues to have the power to transform your family\, 
 community\, and country today. Additionally\, the event will address the c
 ultural attack on masculinity and why strong\, godly men are essential to 
 preserving freedom in our time. This event is open to the public.
DTEND;TZID=Eastern Standard Time:20250823T200000
DTSTAMP:20260422T084545
DTSTART;TZID=Eastern Standard Time:20250823T150000
LOCATION:8154 Garman Rd. Burbank\, OH
SEQUENCE:0
SUMMARY:Truth to Power Revival - Burbank\, OH
UID:04383056-f69f-4376-ac2a-ec4aeaa1acdf
URL:https://theselfevidenttruth.com/truth-to-power-revival-burbank-oh
END:VEVENT
END:VCALENDAR
